BEGIN:VCALENDAR
VERSION:2.0
PRODID:-//ConVerve GmbH//B2BMatch//EN
METHOD:PUBLISH
BEGIN:VEVENT
DTSTART:20250923T110000Z
DTEND:20251007T030000Z
SUMMARY:Study in Europe Fair Colombia 2025
LOCATION:Hotel Grand Hyatt
DESCRIPTION:
UID:0000001
DTSTAMP:20180215T145139Z
END:VEVENT
END:VCALENDAR
